BEGIN:VCALENDAR
VERSION:2.0
PRODID:-//Der Kalender für Lützel - ECPv6.15.20//NONSGML v1.0//EN
CALSCALE:GREGORIAN
METHOD:PUBLISH
X-ORIGINAL-URL:https://xn--ltzel-kva.info
X-WR-CALDESC:Veranstaltungen für Der Kalender für Lützel
REFRESH-INTERVAL;VALUE=DURATION:PT1H
X-Robots-Tag:noindex
X-PUBLISHED-TTL:PT1H
BEGIN:VTIMEZONE
TZID:Europe/Berlin
BEGIN:DAYLIGHT
TZOFFSETFROM:+0100
TZOFFSETTO:+0200
TZNAME:CEST
DTSTART:20210328T010000
END:DAYLIGHT
BEGIN:STANDARD
TZOFFSETFROM:+0200
TZOFFSETTO:+0100
TZNAME:CET
DTSTART:20211031T010000
END:STANDARD
BEGIN:DAYLIGHT
TZOFFSETFROM:+0100
TZOFFSETTO:+0200
TZNAME:CEST
DTSTART:20220327T010000
END:DAYLIGHT
BEGIN:STANDARD
TZOFFSETFROM:+0200
TZOFFSETTO:+0100
TZNAME:CET
DTSTART:20221030T010000
END:STANDARD
BEGIN:DAYLIGHT
TZOFFSETFROM:+0100
TZOFFSETTO:+0200
TZNAME:CEST
DTSTART:20230326T010000
END:DAYLIGHT
BEGIN:STANDARD
TZOFFSETFROM:+0200
TZOFFSETTO:+0100
TZNAME:CET
DTSTART:20231029T010000
END:STANDARD
END:VTIMEZONE
BEGIN:VEVENT
DTSTART;TZID=Europe/Berlin:20221119T170000
DTEND;TZID=Europe/Berlin:20221119T190000
DTSTAMP:20260424T153325
CREATED:20221118T062255Z
LAST-MODIFIED:20221118T062255Z
UID:174-1668877200-1668884400@xn--ltzel-kva.info
SUMMARY:Laternenumzug
DESCRIPTION:Herzliche Einladung zu unserem diesjährigen Laternenumzug \nWir treffen uns um 17.00 Uhr an der Alten Schule. Den Abend lassen wir dort bei heißen Getränken und Stutenmännern gemütlich ausklingen. \nWir freuen uns auf euch!
URL:https://xn--ltzel-kva.info/veranstaltung/laternenumzug/
LOCATION:Alte Schule\, Kronprinzenstraße 14\, Lützel\, 57271
END:VEVENT
END:VCALENDAR