BEGIN:VCALENDAR
VERSION:2.0
PRODID:-//Der Kalender für Lützel - ECPv6.15.20//NONSGML v1.0//EN
CALSCALE:GREGORIAN
METHOD:PUBLISH
X-WR-CALNAME:Der Kalender für Lützel
X-ORIGINAL-URL:https://xn--ltzel-kva.info
X-WR-CALDESC:Veranstaltungen für Der Kalender für Lützel
REFRESH-INTERVAL;VALUE=DURATION:PT1H
X-Robots-Tag:noindex
X-PUBLISHED-TTL:PT1H
BEGIN:VTIMEZONE
TZID:Europe/Berlin
BEGIN:DAYLIGHT
TZOFFSETFROM:+0100
TZOFFSETTO:+0200
TZNAME:CEST
DTSTART:20220327T010000
END:DAYLIGHT
BEGIN:STANDARD
TZOFFSETFROM:+0200
TZOFFSETTO:+0100
TZNAME:CET
DTSTART:20221030T010000
END:STANDARD
BEGIN:DAYLIGHT
TZOFFSETFROM:+0100
TZOFFSETTO:+0200
TZNAME:CEST
DTSTART:20230326T010000
END:DAYLIGHT
BEGIN:STANDARD
TZOFFSETFROM:+0200
TZOFFSETTO:+0100
TZNAME:CET
DTSTART:20231029T010000
END:STANDARD
BEGIN:DAYLIGHT
TZOFFSETFROM:+0100
TZOFFSETTO:+0200
TZNAME:CEST
DTSTART:20240331T010000
END:DAYLIGHT
BEGIN:STANDARD
TZOFFSETFROM:+0200
TZOFFSETTO:+0100
TZNAME:CET
DTSTART:20241027T010000
END:STANDARD
END:VTIMEZONE
BEGIN:VEVENT
DTSTART;TZID=Europe/Berlin:20230404T190000
DTEND;TZID=Europe/Berlin:20230404T210000
DTSTAMP:20260424T075731
CREATED:20230122T114326Z
LAST-MODIFIED:20230402T044503Z
UID:206-1680634800-1680642000@xn--ltzel-kva.info
SUMMARY:Jahreshauptversammlung Jagdgenossenschaft Lützel
DESCRIPTION:am 04.04.2023 um 19.00 Uhr lädt die Jagdgenossenschaft Lützel zur Jahreshauptversammlung 2023 in die Alte Schule Lützel (unten) ein. \nEinladung der Jagdgenossenschaft Lützel zur Jahreshauptversammlung  \nDie Mitglieder der Jagdgenossenschaft Lützel werden zur Jahreshauptversammlung am Dienstag\, 4. April 2023\, um 19:00 Uhr in das Dorfgemeinschaftshaus Alte Schule\, Kronprinzenstraße\, unten in der Pausenhalle\, eingeladen. \nTagesordnung:\n1. Begrüßung und Feststellung der Beschlussfähigkeit\n2. Genehmigung der Niederschrift vom 10. Juni 2022\n3. Jahresbericht\n4. Kassenbericht\n5. Entlastung des Vorstandes\n6. Wahl der 2. Beisitzerin /des 2. Beisitzers\n7. Wahl einer Kassenprüferin/eines Kassenprüfers\n8. Verwendung des Reinertrages\n9. Verlängerung des Jagdpachtvertrages\n10. Verschiedenes\nJeder Teilnehmer muss in der Lage sein\, die Größe des vertretenen Grundbesitzes anzugeben.\nEin bevollmächtigter Vertreter darf nach § 10 der Satzung höchstens einen\nJagdgenossen vertreten. Vollmachten bedürfen der Schriftform.Hilchenbach-Lützel\, 2. März 2023\nJagdgenossenschaft Lützel\nDer Vorstand
URL:https://xn--ltzel-kva.info/veranstaltung/jahreshauptversammlung-jagdgenossenschaft-luetzel/
LOCATION:Alte Schule\, Kronprinzenstraße 14\, Lützel\, 57271
CATEGORIES:Jagdgenossenschaft Lützel
END:VEVENT
END:VCALENDAR