BEGIN:VCALENDAR
VERSION:2.0
PRODID:-//Der Kalender für Lützel - ECPv6.15.20//NONSGML v1.0//EN
CALSCALE:GREGORIAN
METHOD:PUBLISH
X-ORIGINAL-URL:https://xn--ltzel-kva.info
X-WR-CALDESC:Veranstaltungen für Der Kalender für Lützel
REFRESH-INTERVAL;VALUE=DURATION:PT1H
X-Robots-Tag:noindex
X-PUBLISHED-TTL:PT1H
BEGIN:VTIMEZONE
TZID:Europe/Berlin
BEGIN:DAYLIGHT
TZOFFSETFROM:+0100
TZOFFSETTO:+0200
TZNAME:CEST
DTSTART:20220327T010000
END:DAYLIGHT
BEGIN:STANDARD
TZOFFSETFROM:+0200
TZOFFSETTO:+0100
TZNAME:CET
DTSTART:20221030T010000
END:STANDARD
BEGIN:DAYLIGHT
TZOFFSETFROM:+0100
TZOFFSETTO:+0200
TZNAME:CEST
DTSTART:20230326T010000
END:DAYLIGHT
BEGIN:STANDARD
TZOFFSETFROM:+0200
TZOFFSETTO:+0100
TZNAME:CET
DTSTART:20231029T010000
END:STANDARD
BEGIN:DAYLIGHT
TZOFFSETFROM:+0100
TZOFFSETTO:+0200
TZNAME:CEST
DTSTART:20240331T010000
END:DAYLIGHT
BEGIN:STANDARD
TZOFFSETFROM:+0200
TZOFFSETTO:+0100
TZNAME:CET
DTSTART:20241027T010000
END:STANDARD
END:VTIMEZONE
BEGIN:VEVENT
DTSTART;TZID=Europe/Berlin:20230723T140000
DTEND;TZID=Europe/Berlin:20230723T230000
DTSTAMP:20260424T034630
CREATED:20230215T185704Z
LAST-MODIFIED:20230710T163505Z
UID:240-1690120800-1690153200@xn--ltzel-kva.info
SUMMARY:SV Lützel - Sommerfest mit Einweihung des Badeweihers
DESCRIPTION:Am 23.07.2023 lädt der SV Lützel zu seinem Sommerfest mit Einweihung des renovierten Badeweihers ein \nWeitere Infos folgen…
URL:https://xn--ltzel-kva.info/veranstaltung/sv-luetzel-sommerfest-mit-einweihung-des-badeweihers/
LOCATION:Badeweiher\, Lützel\, Deutschland
END:VEVENT
END:VCALENDAR