BEGIN:VCALENDAR
VERSION:2.0
PRODID:-//Der Kalender für Lützel - ECPv6.15.20//NONSGML v1.0//EN
CALSCALE:GREGORIAN
METHOD:PUBLISH
X-ORIGINAL-URL:https://xn--ltzel-kva.info
X-WR-CALDESC:Veranstaltungen für Der Kalender für Lützel
REFRESH-INTERVAL;VALUE=DURATION:PT1H
X-Robots-Tag:noindex
X-PUBLISHED-TTL:PT1H
BEGIN:VTIMEZONE
TZID:Europe/Berlin
BEGIN:DAYLIGHT
TZOFFSETFROM:+0100
TZOFFSETTO:+0200
TZNAME:CEST
DTSTART:20220327T010000
END:DAYLIGHT
BEGIN:STANDARD
TZOFFSETFROM:+0200
TZOFFSETTO:+0100
TZNAME:CET
DTSTART:20221030T010000
END:STANDARD
BEGIN:DAYLIGHT
TZOFFSETFROM:+0100
TZOFFSETTO:+0200
TZNAME:CEST
DTSTART:20230326T010000
END:DAYLIGHT
BEGIN:STANDARD
TZOFFSETFROM:+0200
TZOFFSETTO:+0100
TZNAME:CET
DTSTART:20231029T010000
END:STANDARD
BEGIN:DAYLIGHT
TZOFFSETFROM:+0100
TZOFFSETTO:+0200
TZNAME:CEST
DTSTART:20240331T010000
END:DAYLIGHT
BEGIN:STANDARD
TZOFFSETFROM:+0200
TZOFFSETTO:+0100
TZNAME:CET
DTSTART:20241027T010000
END:STANDARD
END:VTIMEZONE
BEGIN:VEVENT
DTSTART;TZID=Europe/Berlin:20230906T190000
DTEND;TZID=Europe/Berlin:20230906T220000
DTSTAMP:20260424T003443
CREATED:20230320T220119Z
LAST-MODIFIED:20230320T220119Z
UID:296-1694026800-1694037600@xn--ltzel-kva.info
SUMMARY:Grillen am Dorfbrunnen
DESCRIPTION:Von Mai bis September laden wir euch (bei trockenem Wetter) herzlich auf ein paar Stunden „Dorfzeit“ ein. Mit leckeren Grillwürstchen und kühlen Getränken möchten wir in lockerer Atmosphäre gemeinsam den Feierabend genießen. \nJeden 1. Mittwoch im Monat ab 19:00 Uhr beim Dorfbrunnen in der Gillerbergstraße.
URL:https://xn--ltzel-kva.info/veranstaltung/grillen-am-dorfbrunnen-5/
LOCATION:Dorfbrunnen\, Gillerbergstraße
END:VEVENT
END:VCALENDAR