BEGIN:VCALENDAR
VERSION:2.0
PRODID:-//Der Kalender für Lützel - ECPv6.15.20//NONSGML v1.0//EN
CALSCALE:GREGORIAN
METHOD:PUBLISH
X-ORIGINAL-URL:https://xn--ltzel-kva.info
X-WR-CALDESC:Veranstaltungen für Der Kalender für Lützel
REFRESH-INTERVAL;VALUE=DURATION:PT1H
X-Robots-Tag:noindex
X-PUBLISHED-TTL:PT1H
BEGIN:VTIMEZONE
TZID:Europe/Berlin
BEGIN:DAYLIGHT
TZOFFSETFROM:+0100
TZOFFSETTO:+0200
TZNAME:CEST
DTSTART:20220327T010000
END:DAYLIGHT
BEGIN:STANDARD
TZOFFSETFROM:+0200
TZOFFSETTO:+0100
TZNAME:CET
DTSTART:20221030T010000
END:STANDARD
BEGIN:DAYLIGHT
TZOFFSETFROM:+0100
TZOFFSETTO:+0200
TZNAME:CEST
DTSTART:20230326T010000
END:DAYLIGHT
BEGIN:STANDARD
TZOFFSETFROM:+0200
TZOFFSETTO:+0100
TZNAME:CET
DTSTART:20231029T010000
END:STANDARD
BEGIN:DAYLIGHT
TZOFFSETFROM:+0100
TZOFFSETTO:+0200
TZNAME:CEST
DTSTART:20240331T010000
END:DAYLIGHT
BEGIN:STANDARD
TZOFFSETFROM:+0200
TZOFFSETTO:+0100
TZNAME:CET
DTSTART:20241027T010000
END:STANDARD
END:VTIMEZONE
BEGIN:VEVENT
DTSTART;TZID=Europe/Berlin:20230922T190000
DTEND;TZID=Europe/Berlin:20230922T190000
DTSTAMP:20260424T003551
CREATED:20230907T101131Z
LAST-MODIFIED:20230907T102104Z
UID:346-1695409200-1695409200@xn--ltzel-kva.info
SUMMARY:Jahreshauptversammlung Förderverein Löschgruppe Lützel
DESCRIPTION:Tagesordnung\n\nBegrüßung\nGenehmigung des Protokolls der Jahreshauptversammlung 2022\nBerichte des Vorstands\nKassenbericht und Entlastung des Vorstands\nErläuterungen Kassenzusammenlegung Feuerwehr und Förderverein\nSatzungsänderung\nBeitragsordnung\nWahlen\n\nggf. Vorsitzender + Stellvertreter\nKassenwart / Kassenwartin\nBeisitzende\nSchriftführer / Schriftführerin\nKassenprüfer / Kassenprüferin\n\n\nAnträge / Verschiedenes\n\nAnträge\nAnträge sind bis 15.09.2023 schriftlich an den Vorsitzenden Ralf Surber\, Gillerbergstraße 18\, zu richten \nWeitere Informationen / Rückfragen\nFür weitere Informationen und Rückfragen steht euch der Vorstand unter den bekannten Kontakdaten zur Verfügung. Per E-Mail ist der Verein erreichbar unter foerderverein-luetzel@web.de.
URL:https://xn--ltzel-kva.info/veranstaltung/jahreshauptversammlung-foerderverein-loeschgruppe-luetzel/
LOCATION:Feuerwehr-Gerätehaus\, Kronprinzenstraße 1\, Lützel\, 57271\, Deutschland
CATEGORIES:Förderverein
END:VEVENT
END:VCALENDAR