BEGIN:VCALENDAR
VERSION:2.0
PRODID:-//Der Kalender für Lützel - ECPv6.15.20//NONSGML v1.0//EN
CALSCALE:GREGORIAN
METHOD:PUBLISH
X-WR-CALNAME:Der Kalender für Lützel
X-ORIGINAL-URL:https://xn--ltzel-kva.info
X-WR-CALDESC:Veranstaltungen für Der Kalender für Lützel
REFRESH-INTERVAL;VALUE=DURATION:PT1H
X-Robots-Tag:noindex
X-PUBLISHED-TTL:PT1H
BEGIN:VTIMEZONE
TZID:Europe/Berlin
BEGIN:DAYLIGHT
TZOFFSETFROM:+0100
TZOFFSETTO:+0200
TZNAME:CEST
DTSTART:20230326T010000
END:DAYLIGHT
BEGIN:STANDARD
TZOFFSETFROM:+0200
TZOFFSETTO:+0100
TZNAME:CET
DTSTART:20231029T010000
END:STANDARD
BEGIN:DAYLIGHT
TZOFFSETFROM:+0100
TZOFFSETTO:+0200
TZNAME:CEST
DTSTART:20240331T010000
END:DAYLIGHT
BEGIN:STANDARD
TZOFFSETFROM:+0200
TZOFFSETTO:+0100
TZNAME:CET
DTSTART:20241027T010000
END:STANDARD
BEGIN:DAYLIGHT
TZOFFSETFROM:+0100
TZOFFSETTO:+0200
TZNAME:CEST
DTSTART:20250330T010000
END:DAYLIGHT
BEGIN:STANDARD
TZOFFSETFROM:+0200
TZOFFSETTO:+0100
TZNAME:CET
DTSTART:20251026T010000
END:STANDARD
END:VTIMEZONE
BEGIN:VEVENT
DTSTART;TZID=Europe/Berlin:20240831T140000
DTEND;TZID=Europe/Berlin:20240831T170000
DTSTAMP:20260423T061542
CREATED:20240814T083145Z
LAST-MODIFIED:20240814T083145Z
UID:472-1725112800-1725123600@xn--ltzel-kva.info
SUMMARY:35 Jahre Jugendfeuerwehr Lützel
DESCRIPTION:Am 31.08.2024 feiert die Jugendfeuerwehr Lützel ihr 35-jähriges Bestehen. \nDas wollen wir feiern mit \n\nab 14 Uhr mit einer Übung der Jugendfeuerwehr am Gemeindehaus Lützel\nab 15 Uhr mit Kaffee und Kuchen am Gerätehaus Lützel\n\nDie Jugendfeuerwehr Lützel freut sich auf euch!
URL:https://xn--ltzel-kva.info/veranstaltung/35-jahre-jugendfeuerwehr-luetzel/
LOCATION:Gemeindehaus\, In den Eichen 2a\, Lützel\, 57271
CATEGORIES:Feuerwehr
END:VEVENT
END:VCALENDAR