BEGIN:VCALENDAR
VERSION:2.0
PRODID:-//Der Kalender für Lützel - ECPv6.15.20//NONSGML v1.0//EN
CALSCALE:GREGORIAN
METHOD:PUBLISH
X-WR-CALNAME:Der Kalender für Lützel
X-ORIGINAL-URL:https://xn--ltzel-kva.info
X-WR-CALDESC:Veranstaltungen für Der Kalender für Lützel
REFRESH-INTERVAL;VALUE=DURATION:PT1H
X-Robots-Tag:noindex
X-PUBLISHED-TTL:PT1H
BEGIN:VTIMEZONE
TZID:Europe/Berlin
BEGIN:DAYLIGHT
TZOFFSETFROM:+0100
TZOFFSETTO:+0200
TZNAME:CEST
DTSTART:20240331T010000
END:DAYLIGHT
BEGIN:STANDARD
TZOFFSETFROM:+0200
TZOFFSETTO:+0100
TZNAME:CET
DTSTART:20241027T010000
END:STANDARD
BEGIN:DAYLIGHT
TZOFFSETFROM:+0100
TZOFFSETTO:+0200
TZNAME:CEST
DTSTART:20250330T010000
END:DAYLIGHT
BEGIN:STANDARD
TZOFFSETFROM:+0200
TZOFFSETTO:+0100
TZNAME:CET
DTSTART:20251026T010000
END:STANDARD
BEGIN:DAYLIGHT
TZOFFSETFROM:+0100
TZOFFSETTO:+0200
TZNAME:CEST
DTSTART:20260329T010000
END:DAYLIGHT
BEGIN:STANDARD
TZOFFSETFROM:+0200
TZOFFSETTO:+0100
TZNAME:CET
DTSTART:20261025T010000
END:STANDARD
END:VTIMEZONE
BEGIN:VEVENT
DTSTART;TZID=Europe/Berlin:20250428T180000
DTEND;TZID=Europe/Berlin:20250428T200000
DTSTAMP:20260422T183319
CREATED:20250412T055615Z
LAST-MODIFIED:20250412T055615Z
UID:534-1745863200-1745870400@xn--ltzel-kva.info
SUMMARY:Flurbereinigungsverfahren B62 - Vorstandswahl
DESCRIPTION:Ladung zur Vorstandswahl\nSiegen\, den 03.04.2025\nDas Flurbereinigungsverfahren Hilchenbach B 62 ist mit Beschluss vom 10.12.2024\neingeleitet worden. Mit dem Beschluss ist die Teilnehmergemeinschaft des Flurberei\nnigungsverfahrens Hilchenbach B 62 entstanden.\nIn dem Flurbereinigungsverfahren Hilchenbach B 62 soll am\nMontag\, dem 28. April 2025\, um 18:00 Uhr\,\nDorfgemeinschaftshaus – Alte Schule Lützel\,\nKronprinzenstraße 14\,\n57271 Hilchenbach-Lützel\,\ngemäß § 21 Abs. 1 bis 5 des Flurbereinigungsgesetzes in der zurzeit gültigen Fas\nsung der Vorstand der Teilnehmergemeinschaft gewählt werden.\nZu diesem Termin werden die Eigentümer der zum Flurbereinigungsgebiet gehören\nden Grundstücke sowie die den Eigentümern gleichstehenden Erbbauberechtigten\nals Teilnehmer des vereinfachten Flurbereinigungsverfahrens Hilchenbach B 62 gela\nden.
URL:https://xn--ltzel-kva.info/veranstaltung/flurbereinigungsverfahren-b62-vorstandswahl/
LOCATION:Alte Schule\, Kronprinzenstraße 14\, Lützel\, 57271
END:VEVENT
END:VCALENDAR