BEGIN:VCALENDAR
VERSION:2.0
PRODID:-//Der Kalender für Lützel - ECPv6.15.20//NONSGML v1.0//EN
CALSCALE:GREGORIAN
METHOD:PUBLISH
X-WR-CALNAME:Der Kalender für Lützel
X-ORIGINAL-URL:https://xn--ltzel-kva.info
X-WR-CALDESC:Veranstaltungen für Der Kalender für Lützel
REFRESH-INTERVAL;VALUE=DURATION:PT1H
X-Robots-Tag:noindex
X-PUBLISHED-TTL:PT1H
BEGIN:VTIMEZONE
TZID:Europe/Berlin
BEGIN:DAYLIGHT
TZOFFSETFROM:+0100
TZOFFSETTO:+0200
TZNAME:CEST
DTSTART:20240331T010000
END:DAYLIGHT
BEGIN:STANDARD
TZOFFSETFROM:+0200
TZOFFSETTO:+0100
TZNAME:CET
DTSTART:20241027T010000
END:STANDARD
BEGIN:DAYLIGHT
TZOFFSETFROM:+0100
TZOFFSETTO:+0200
TZNAME:CEST
DTSTART:20250330T010000
END:DAYLIGHT
BEGIN:STANDARD
TZOFFSETFROM:+0200
TZOFFSETTO:+0100
TZNAME:CET
DTSTART:20251026T010000
END:STANDARD
BEGIN:DAYLIGHT
TZOFFSETFROM:+0100
TZOFFSETTO:+0200
TZNAME:CEST
DTSTART:20260329T010000
END:DAYLIGHT
BEGIN:STANDARD
TZOFFSETFROM:+0200
TZOFFSETTO:+0100
TZNAME:CET
DTSTART:20261025T010000
END:STANDARD
END:VTIMEZONE
BEGIN:VEVENT
DTSTART;VALUE=DATE:20250906
DTEND;VALUE=DATE:20250907
DTSTAMP:20260420T012256
CREATED:20250723T184940Z
LAST-MODIFIED:20250825T083420Z
UID:549-1757116800-1757203199@xn--ltzel-kva.info
SUMMARY:Sommerfest des SV Lützel
DESCRIPTION:Am Samstag\, dem 06.09.2025\, ist es wieder soweit: Das Sommerfest des Skivereins findet am Badeweiher statt. Wir starten um 14.00 Uhr. Für ein abwechslungsreiches Programm ist gesorgt. Es gibt eine Hüpfburg\, eine Wasserrutsche\, die Möglichkeit zum Schwimmen sowie Angebote für Fußball und Indiaca. Um 15 Uhr findet unser Biathlon statt. \n\n\n\nFür das leibliche Wohl ist mit Kaffee\, gekühlten Getränken und Waffeln gesorgt. Ab 17 Uhr wird gegrillt. \n\n\n\nWir freuen uns auf einen schönen Samstag!\n\n\n\n\n\n\n\n \n\n\n\n  \n 
URL:https://xn--ltzel-kva.info/veranstaltung/sommerfest-des-sv-luetzel/
END:VEVENT
END:VCALENDAR