BEGIN:VCALENDAR
VERSION:2.0
PRODID:-//Der Kalender für Lützel - ECPv6.15.20//NONSGML v1.0//EN
CALSCALE:GREGORIAN
METHOD:PUBLISH
X-ORIGINAL-URL:https://xn--ltzel-kva.info
X-WR-CALDESC:Veranstaltungen für Der Kalender für Lützel
REFRESH-INTERVAL;VALUE=DURATION:PT1H
X-Robots-Tag:noindex
X-PUBLISHED-TTL:PT1H
BEGIN:VTIMEZONE
TZID:Europe/Berlin
BEGIN:DAYLIGHT
TZOFFSETFROM:+0100
TZOFFSETTO:+0200
TZNAME:CEST
DTSTART:20210328T010000
END:DAYLIGHT
BEGIN:STANDARD
TZOFFSETFROM:+0200
TZOFFSETTO:+0100
TZNAME:CET
DTSTART:20211031T010000
END:STANDARD
BEGIN:DAYLIGHT
TZOFFSETFROM:+0100
TZOFFSETTO:+0200
TZNAME:CEST
DTSTART:20220327T010000
END:DAYLIGHT
BEGIN:STANDARD
TZOFFSETFROM:+0200
TZOFFSETTO:+0100
TZNAME:CET
DTSTART:20221030T010000
END:STANDARD
BEGIN:DAYLIGHT
TZOFFSETFROM:+0100
TZOFFSETTO:+0200
TZNAME:CEST
DTSTART:20230326T010000
END:DAYLIGHT
BEGIN:STANDARD
TZOFFSETFROM:+0200
TZOFFSETTO:+0100
TZNAME:CET
DTSTART:20231029T010000
END:STANDARD
END:VTIMEZONE
BEGIN:VEVENT
DTSTART;TZID=Europe/Berlin:20221202T190000
DTEND;TZID=Europe/Berlin:20221202T210000
DTSTAMP:20260424T124259
CREATED:20221118T063345Z
LAST-MODIFIED:20221118T063345Z
UID:179-1670007600-1670014800@xn--ltzel-kva.info
SUMMARY:Übungsabend der Feuerwehr
DESCRIPTION:Am heutigen Abend werden wir uns mit den verschiedenen Geräten beschäftigen\, die zur Beladung unserer Einsatzfahrzeuge gehören. \nNeugierig auf die Feuerwehr? Schaut gerne rein\, wir freuen uns!
URL:https://xn--ltzel-kva.info/veranstaltung/uebungsabend-der-feuerwehr/
LOCATION:Feuerwehr-Gerätehaus\, Kronprinzenstraße 1\, Lützel\, 57271\, Deutschland
END:VEVENT
BEGIN:VEVENT
DTSTART;TZID=Europe/Berlin:20221205T190000
DTEND;TZID=Europe/Berlin:20221205T220000
DTSTAMP:20260424T124259
CREATED:20221116T193320Z
LAST-MODIFIED:20221116T193711Z
UID:170-1670266800-1670277600@xn--ltzel-kva.info
SUMMARY:Bürger-Infoveranstaltung zum Glasfaserausbau
DESCRIPTION:Glasfaserausbau in\nLützel – nur gemeinsam geht’s \nBesuchen Sie die Infoveranstaltung:\nMontag\, 05.12.2022\, 19 Uhr\nev. Gemeindehaus Lützel\nIn den Eichen 2a\, 57271 Hilchenbach \nWestconnect GmbH – eine Beteiligung von E.ON & Igneo Infrastructure Partners
URL:https://xn--ltzel-kva.info/veranstaltung/buerger-infoveranstaltung-zum-glasfaserausbau/
LOCATION:Gemeindehaus\, In den Eichen 2a\, Lützel\, 57271
CATEGORIES:Glasfaserausbau
END:VEVENT
BEGIN:VEVENT
DTSTART;TZID=Europe/Berlin:20221215T190000
DTEND;TZID=Europe/Berlin:20221215T210000
DTSTAMP:20260424T124259
CREATED:20221118T063546Z
LAST-MODIFIED:20221118T063546Z
UID:181-1671130800-1671138000@xn--ltzel-kva.info
SUMMARY:Übungsabend der Feuerwehr
DESCRIPTION:Das Thema ist derzeit noch offen. \nNeugierig auf die Feuerwehr? Schaut gerne rein\, wir freuen uns!
URL:https://xn--ltzel-kva.info/veranstaltung/uebungsabend-der-feuerwehr-2/
LOCATION:Feuerwehr-Gerätehaus\, Kronprinzenstraße 1\, Lützel\, 57271\, Deutschland
END:VEVENT
END:VCALENDAR