BEGIN:VCALENDAR
VERSION:2.0
PRODID:-//Der Kalender für Lützel - ECPv6.15.20//NONSGML v1.0//EN
CALSCALE:GREGORIAN
METHOD:PUBLISH
X-ORIGINAL-URL:https://xn--ltzel-kva.info
X-WR-CALDESC:Veranstaltungen für Der Kalender für Lützel
REFRESH-INTERVAL;VALUE=DURATION:PT1H
X-Robots-Tag:noindex
X-PUBLISHED-TTL:PT1H
BEGIN:VTIMEZONE
TZID:Europe/Berlin
BEGIN:DAYLIGHT
TZOFFSETFROM:+0100
TZOFFSETTO:+0200
TZNAME:CEST
DTSTART:20220327T010000
END:DAYLIGHT
BEGIN:STANDARD
TZOFFSETFROM:+0200
TZOFFSETTO:+0100
TZNAME:CET
DTSTART:20221030T010000
END:STANDARD
BEGIN:DAYLIGHT
TZOFFSETFROM:+0100
TZOFFSETTO:+0200
TZNAME:CEST
DTSTART:20230326T010000
END:DAYLIGHT
BEGIN:STANDARD
TZOFFSETFROM:+0200
TZOFFSETTO:+0100
TZNAME:CET
DTSTART:20231029T010000
END:STANDARD
BEGIN:DAYLIGHT
TZOFFSETFROM:+0100
TZOFFSETTO:+0200
TZNAME:CEST
DTSTART:20240331T010000
END:DAYLIGHT
BEGIN:STANDARD
TZOFFSETFROM:+0200
TZOFFSETTO:+0100
TZNAME:CET
DTSTART:20241027T010000
END:STANDARD
END:VTIMEZONE
BEGIN:VEVENT
DTSTART;TZID=Europe/Berlin:20230114T140000
DTEND;TZID=Europe/Berlin:20230114T170000
DTSTAMP:20260424T110457
CREATED:20221231T115406Z
LAST-MODIFIED:20230109T174806Z
UID:199-1673704800-1673715600@xn--ltzel-kva.info
SUMMARY:Weihnachtsbaumaktion Teestube
DESCRIPTION:Achtung: Terminverlegung auf Nachmittag \nDie Teestube sammelt (anders als es auf dem Flyer steht) ab 14:00 Uhr die Weihnachtsbäume ein (gerne gegen eine kleine Spende für die Jugendarbeit) und verbrennt diese anschließend bei Punsch und Würstchen mit Brötchen bei Bengersch Schuppen (An der Stern). Wer möchte kann auch gerne später noch dazu kommen (ab ca. 15/ 15:30 Uhr).
URL:https://xn--ltzel-kva.info/veranstaltung/weihnachtsbaumaktion-teestube/
END:VEVENT
BEGIN:VEVENT
DTSTART;TZID=Europe/Berlin:20230121T140000
DTEND;TZID=Europe/Berlin:20230121T180000
DTSTAMP:20260424T110457
CREATED:20221204T173226Z
LAST-MODIFIED:20230122T113855Z
UID:187-1674309600-1674324000@xn--ltzel-kva.info
SUMMARY:Vereinsmeisterschaften Langlauf - wegen Schneemangel abgesagt
DESCRIPTION:Langlauf-Vereinsmeisterschaften des SV Lützel\, \nbei Schneemangel ist der 18.02.2023 als Ausweichtermin geplant. \n  \n  \n 
URL:https://xn--ltzel-kva.info/veranstaltung/vereinsmeisterschaften-langlauf/
LOCATION:Loipe auf dem Giller
CATEGORIES:SV Lützel
END:VEVENT
END:VCALENDAR