BEGIN:VCALENDAR
VERSION:2.0
PRODID:-//Der Kalender für Lützel - ECPv6.15.20//NONSGML v1.0//EN
CALSCALE:GREGORIAN
METHOD:PUBLISH
X-WR-CALNAME:Der Kalender für Lützel
X-ORIGINAL-URL:https://xn--ltzel-kva.info
X-WR-CALDESC:Veranstaltungen für Der Kalender für Lützel
REFRESH-INTERVAL;VALUE=DURATION:PT1H
X-Robots-Tag:noindex
X-PUBLISHED-TTL:PT1H
BEGIN:VTIMEZONE
TZID:Europe/Berlin
BEGIN:DAYLIGHT
TZOFFSETFROM:+0100
TZOFFSETTO:+0200
TZNAME:CEST
DTSTART:20220327T010000
END:DAYLIGHT
BEGIN:STANDARD
TZOFFSETFROM:+0200
TZOFFSETTO:+0100
TZNAME:CET
DTSTART:20221030T010000
END:STANDARD
BEGIN:DAYLIGHT
TZOFFSETFROM:+0100
TZOFFSETTO:+0200
TZNAME:CEST
DTSTART:20230326T010000
END:DAYLIGHT
BEGIN:STANDARD
TZOFFSETFROM:+0200
TZOFFSETTO:+0100
TZNAME:CET
DTSTART:20231029T010000
END:STANDARD
BEGIN:DAYLIGHT
TZOFFSETFROM:+0100
TZOFFSETTO:+0200
TZNAME:CEST
DTSTART:20240331T010000
END:DAYLIGHT
BEGIN:STANDARD
TZOFFSETFROM:+0200
TZOFFSETTO:+0100
TZNAME:CET
DTSTART:20241027T010000
END:STANDARD
END:VTIMEZONE
BEGIN:VEVENT
DTSTART;TZID=Europe/Berlin:20231001T103000
DTEND;TZID=Europe/Berlin:20231001T130000
DTSTAMP:20260423T213802
CREATED:20230215T202325Z
LAST-MODIFIED:20230215T204546Z
UID:264-1696156200-1696165200@xn--ltzel-kva.info
SUMMARY:Erntedankgottesdienst ev. Gemeinschaft
DESCRIPTION:Familiengottesdienst mit gemeinsamem Mittagessen
URL:https://xn--ltzel-kva.info/veranstaltung/familiengottesdienst-ev-gemeinschaft-erntedank/
LOCATION:Gemeindehaus\, In den Eichen 2a\, Lützel\, 57271
END:VEVENT
BEGIN:VEVENT
DTSTART;TZID=Europe/Berlin:20231018T190000
DTEND;TZID=Europe/Berlin:20231018T210000
DTSTAMP:20260423T213802
CREATED:20230816T103422Z
LAST-MODIFIED:20230816T103422Z
UID:333-1697655600-1697662800@xn--ltzel-kva.info
SUMMARY:Jahreshauptversammlung des Heimatvereins Lützel e.V.
DESCRIPTION:Der Heimatverein Lützel lädt am Mittwoch\, dem 18.10.2023 um 19.00 Uhr\, zur Jahreshauptversammlung in die alte Schule ein. \nDie Tagesordnung folgt in Kürze.
URL:https://xn--ltzel-kva.info/veranstaltung/jahreshauptversammlung-des-heimatvereins-luetzel-e-v/
LOCATION:Alte Schule\, Kronprinzenstraße 14\, Lützel\, 57271
END:VEVENT
BEGIN:VEVENT
DTSTART;TZID=Europe/Berlin:20231021T093000
DTEND;TZID=Europe/Berlin:20231021T110000
DTSTAMP:20260423T213802
CREATED:20230215T202618Z
LAST-MODIFIED:20230215T202618Z
UID:266-1697880600-1697886000@xn--ltzel-kva.info
SUMMARY:Mitgliederfrühstück ev. Gemeinschaft
DESCRIPTION:
URL:https://xn--ltzel-kva.info/veranstaltung/mitgliederfruehstueck-ev-gemeinschaft/
LOCATION:Gemeindehaus\, In den Eichen 2a\, Lützel\, 57271
END:VEVENT
BEGIN:VEVENT
DTSTART;TZID=Europe/Berlin:20231031T180000
DTEND;TZID=Europe/Berlin:20231031T193000
DTSTAMP:20260423T213802
CREATED:20230215T202748Z
LAST-MODIFIED:20230215T202748Z
UID:268-1698775200-1698780600@xn--ltzel-kva.info
SUMMARY:Jugendgottesdienst ev. Gemeinschaft
DESCRIPTION:
URL:https://xn--ltzel-kva.info/veranstaltung/jugendgottesdienst-ev-gemeinschaft/
LOCATION:Gemeindehaus\, In den Eichen 2a\, Lützel\, 57271
END:VEVENT
END:VCALENDAR