BEGIN:VCALENDAR
VERSION:2.0
PRODID:-//Der Kalender für Lützel - ECPv6.15.20//NONSGML v1.0//EN
CALSCALE:GREGORIAN
METHOD:PUBLISH
X-ORIGINAL-URL:https://xn--ltzel-kva.info
X-WR-CALDESC:Veranstaltungen für Der Kalender für Lützel
REFRESH-INTERVAL;VALUE=DURATION:PT1H
X-Robots-Tag:noindex
X-PUBLISHED-TTL:PT1H
BEGIN:VTIMEZONE
TZID:Europe/Berlin
BEGIN:DAYLIGHT
TZOFFSETFROM:+0100
TZOFFSETTO:+0200
TZNAME:CEST
DTSTART:20220327T010000
END:DAYLIGHT
BEGIN:STANDARD
TZOFFSETFROM:+0200
TZOFFSETTO:+0100
TZNAME:CET
DTSTART:20221030T010000
END:STANDARD
BEGIN:DAYLIGHT
TZOFFSETFROM:+0100
TZOFFSETTO:+0200
TZNAME:CEST
DTSTART:20230326T010000
END:DAYLIGHT
BEGIN:STANDARD
TZOFFSETFROM:+0200
TZOFFSETTO:+0100
TZNAME:CET
DTSTART:20231029T010000
END:STANDARD
BEGIN:DAYLIGHT
TZOFFSETFROM:+0100
TZOFFSETTO:+0200
TZNAME:CEST
DTSTART:20240331T010000
END:DAYLIGHT
BEGIN:STANDARD
TZOFFSETFROM:+0200
TZOFFSETTO:+0100
TZNAME:CET
DTSTART:20241027T010000
END:STANDARD
END:VTIMEZONE
BEGIN:VEVENT
DTSTART;TZID=Europe/Berlin:20231203T150000
DTEND;TZID=Europe/Berlin:20231203T170000
DTSTAMP:20260423T184048
CREATED:20230215T203347Z
LAST-MODIFIED:20231203T093730Z
UID:272-1701615600-1701622800@xn--ltzel-kva.info
SUMMARY:Kigo-Weihnachtsfeier ev. Gemeinschaft
DESCRIPTION:Mit anschließender Weihnachtswerkstatt\, Stehcafé und Keksbar für alle.
URL:https://xn--ltzel-kva.info/veranstaltung/kigo-weihnachtsfeier-ev-gemeinschaft/
LOCATION:Gemeindehaus\, In den Eichen 2a\, Lützel\, 57271
END:VEVENT
BEGIN:VEVENT
DTSTART;TZID=Europe/Berlin:20231224T160000
DTEND;TZID=Europe/Berlin:20231224T170000
DTSTAMP:20260423T184048
CREATED:20230215T203448Z
LAST-MODIFIED:20230215T203448Z
UID:274-1703433600-1703437200@xn--ltzel-kva.info
SUMMARY:Heiligabend-Gottesdienst ev. Gemeinschaft
DESCRIPTION:
URL:https://xn--ltzel-kva.info/veranstaltung/heiligabend-gottesdienst-ev-gemeinschaft/
LOCATION:Gemeindehaus\, In den Eichen 2a\, Lützel\, 57271
END:VEVENT
BEGIN:VEVENT
DTSTART;TZID=Europe/Berlin:20231231T170000
DTEND;TZID=Europe/Berlin:20231231T180000
DTSTAMP:20260423T184048
CREATED:20230215T203547Z
LAST-MODIFIED:20230215T203547Z
UID:276-1704042000-1704045600@xn--ltzel-kva.info
SUMMARY:Jahresabschlussfeier ev. Gemeinschaft
DESCRIPTION:
URL:https://xn--ltzel-kva.info/veranstaltung/jahresabschlussfeier-ev-gemeinschaft/
LOCATION:Gemeindehaus\, In den Eichen 2a\, Lützel\, 57271
END:VEVENT
END:VCALENDAR