BEGIN:VCALENDAR
VERSION:2.0
PRODID:-//Der Kalender für Lützel - ECPv6.15.20//NONSGML v1.0//EN
CALSCALE:GREGORIAN
METHOD:PUBLISH
X-WR-CALNAME:Der Kalender für Lützel
X-ORIGINAL-URL:https://xn--ltzel-kva.info
X-WR-CALDESC:Veranstaltungen für Der Kalender für Lützel
REFRESH-INTERVAL;VALUE=DURATION:PT1H
X-Robots-Tag:noindex
X-PUBLISHED-TTL:PT1H
BEGIN:VTIMEZONE
TZID:Europe/Berlin
BEGIN:DAYLIGHT
TZOFFSETFROM:+0100
TZOFFSETTO:+0200
TZNAME:CEST
DTSTART:20230326T010000
END:DAYLIGHT
BEGIN:STANDARD
TZOFFSETFROM:+0200
TZOFFSETTO:+0100
TZNAME:CET
DTSTART:20231029T010000
END:STANDARD
BEGIN:DAYLIGHT
TZOFFSETFROM:+0100
TZOFFSETTO:+0200
TZNAME:CEST
DTSTART:20240331T010000
END:DAYLIGHT
BEGIN:STANDARD
TZOFFSETFROM:+0200
TZOFFSETTO:+0100
TZNAME:CET
DTSTART:20241027T010000
END:STANDARD
BEGIN:DAYLIGHT
TZOFFSETFROM:+0100
TZOFFSETTO:+0200
TZNAME:CEST
DTSTART:20250330T010000
END:DAYLIGHT
BEGIN:STANDARD
TZOFFSETFROM:+0200
TZOFFSETTO:+0100
TZNAME:CET
DTSTART:20251026T010000
END:STANDARD
END:VTIMEZONE
BEGIN:VEVENT
DTSTART;TZID=Europe/Berlin:20240323T090000
DTEND;TZID=Europe/Berlin:20240323T130000
DTSTAMP:20260423T141902
CREATED:20240130T180652Z
LAST-MODIFIED:20240130T180652Z
UID:372-1711184400-1711198800@xn--ltzel-kva.info
SUMMARY:Frühjahrsputz in Lützel
DESCRIPTION:Am Samstag 22.03.2024 findet ab 9.00 Uhr der Frühjahrsputz im Dorf statt. Treffpunkt ist am Dorfgemeinschaftshaus „Alte Schule“. \nNach getaner Arbeit findet um die Mittagszeit ein gemeinsames Essen statt. \nJede helfende Hand ist willkommen! \n 
URL:https://xn--ltzel-kva.info/veranstaltung/fruehjahrsputz-in-luetzel/
LOCATION:Alte Schule\, Kronprinzenstraße 14\, Lützel\, 57271
END:VEVENT
BEGIN:VEVENT
DTSTART;TZID=Europe/Berlin:20240328T180000
DTEND;TZID=Europe/Berlin:20240328T233000
DTSTAMP:20260423T141902
CREATED:20240206T164724Z
LAST-MODIFIED:20240206T164724Z
UID:375-1711648800-1711668600@xn--ltzel-kva.info
SUMMARY:Osterfeuer des Skiverein Lützel
DESCRIPTION:Auch in diesem Jahr lädt der SV Lützel wieder zu seinem traditionelle Osterfeuer an Gründonnerstag dem 28.03.2024 ein. \nDas Fest findet ab 18.30 Uhr in und um den unteren Teil der Alten Schule statt. \n 
URL:https://xn--ltzel-kva.info/veranstaltung/osterfeuer-des-skiverein-luetzel/
LOCATION:Alte Schule\, Kronprinzenstraße 14\, Lützel\, 57271
END:VEVENT
END:VCALENDAR