BEGIN:VCALENDAR
VERSION:2.0
PRODID:-//Der Kalender für Lützel - ECPv6.15.20//NONSGML v1.0//EN
CALSCALE:GREGORIAN
METHOD:PUBLISH
X-ORIGINAL-URL:https://xn--ltzel-kva.info
X-WR-CALDESC:Veranstaltungen für Der Kalender für Lützel
REFRESH-INTERVAL;VALUE=DURATION:PT1H
X-Robots-Tag:noindex
X-PUBLISHED-TTL:PT1H
BEGIN:VTIMEZONE
TZID:Europe/Berlin
BEGIN:DAYLIGHT
TZOFFSETFROM:+0100
TZOFFSETTO:+0200
TZNAME:CEST
DTSTART:20230326T010000
END:DAYLIGHT
BEGIN:STANDARD
TZOFFSETFROM:+0200
TZOFFSETTO:+0100
TZNAME:CET
DTSTART:20231029T010000
END:STANDARD
BEGIN:DAYLIGHT
TZOFFSETFROM:+0100
TZOFFSETTO:+0200
TZNAME:CEST
DTSTART:20240331T010000
END:DAYLIGHT
BEGIN:STANDARD
TZOFFSETFROM:+0200
TZOFFSETTO:+0100
TZNAME:CET
DTSTART:20241027T010000
END:STANDARD
BEGIN:DAYLIGHT
TZOFFSETFROM:+0100
TZOFFSETTO:+0200
TZNAME:CEST
DTSTART:20250330T010000
END:DAYLIGHT
BEGIN:STANDARD
TZOFFSETFROM:+0200
TZOFFSETTO:+0100
TZNAME:CET
DTSTART:20251026T010000
END:STANDARD
END:VTIMEZONE
BEGIN:VEVENT
DTSTART;TZID=Europe/Berlin:20240403T190000
DTEND;TZID=Europe/Berlin:20240403T210000
DTSTAMP:20260423T124624
CREATED:20240206T165907Z
LAST-MODIFIED:20240314T194152Z
UID:381-1712170800-1712178000@xn--ltzel-kva.info
SUMMARY:Grillen in der Alten Schule - jeden 1. Mittwoch im Monat (bis April)
DESCRIPTION:Am Mittwoch dem 03.04.2024 wird in der Alten Schule wieder ab 19.00 Uhr gegrillt. \nHerzliche Einladung!
URL:https://xn--ltzel-kva.info/veranstaltung/grillen-in-der-alten-schule-jeden-1-mittwoch-im-monat-bis-april/
LOCATION:Alte Schule\, Kronprinzenstraße 14\, Lützel\, 57271
END:VEVENT
BEGIN:VEVENT
DTSTART;TZID=Europe/Berlin:20240404T190000
DTEND;TZID=Europe/Berlin:20240404T210000
DTSTAMP:20260423T124624
CREATED:20240209T194246Z
LAST-MODIFIED:20240209T194246Z
UID:391-1712257200-1712264400@xn--ltzel-kva.info
SUMMARY:Jahreshauptversammlung Förderverein Löschgruppe Lützel
DESCRIPTION:
URL:https://xn--ltzel-kva.info/veranstaltung/jahreshauptversammlung-foerderverein-loeschgruppe-luetzel-2/
LOCATION:Feuerwehr-Gerätehaus\, Kronprinzenstraße 1\, Lützel\, 57271\, Deutschland
END:VEVENT
BEGIN:VEVENT
DTSTART;TZID=Europe/Berlin:20240409T190000
DTEND;TZID=Europe/Berlin:20240409T210000
DTSTAMP:20260423T124624
CREATED:20240130T175927Z
LAST-MODIFIED:20240224T150728Z
UID:370-1712689200-1712696400@xn--ltzel-kva.info
SUMMARY:Versammlung der Jagdgenossenschaft Lützel
DESCRIPTION:Einladung der Jagdgenossenschaft Lützel zur Jahreshauptversammlung \nDie Mitglieder der Jagdgenossenschaft Lützel werden zur Jahreshaupt­versammlung am Dienstag\, den 9. April 2024 um 19:00 Uhr in das Dorfgemeinschaftshaus Alte Schule\, Kronprinzenstraße\, unten in der Pausenhalle\, eingeladen. \nTagesordnung: \n\nBegrüßung und Feststellung der Beschlussfähigkeit\nGenehmigung der Niederschrift vom 4.4.2023\nJahresbericht\nKassenbericht\nEntlastung des Vorstandes\nWahl der stellvertretenden 2. Beisitzerin /des stellvertretenden 2. Beisitzers\nWahl einer Kassenprüferin/eines Kassenprüfers\nVerwendung des Reinertrages\nVerschiedenes\n\n  \nJeder Teilnehmer muss in der Lage sein\, die Größe des vertretenen Grundbesitzes anzugeben. \n  \nEin bevollmächtigter Vertreter darf nach § 10 der Satzung höchstens einen Jagdgenossen vertreten. Vollmachten bedürfen der Schriftform. \nHilchenbach-Lützel\, den 15.02.2024 \nJagdgenossenschaft Lützel \nDer Vorstand
URL:https://xn--ltzel-kva.info/veranstaltung/versammlung-der-jagdgenossenschaft-luetzel/
LOCATION:Alte Schule\, Kronprinzenstraße 14\, Lützel\, 57271
END:VEVENT
BEGIN:VEVENT
DTSTART;TZID=Europe/Berlin:20240430T170000
DTEND;TZID=Europe/Berlin:20240430T230000
DTSTAMP:20260423T124624
CREATED:20230929T173752Z
LAST-MODIFIED:20240428T160501Z
UID:351-1714496400-1714518000@xn--ltzel-kva.info
SUMMARY:Tanz in den Mai
DESCRIPTION:Wir laden euch wieder ein – zum Tanz in den Mai 2024! \nUm 17 Uhr beginnt unsere Jugendfeuerwehr mit dem Schmücken und Aufstellen des Maibaums. Danach sorgen der Förderverein und die Einsatzabteilung für einen schönen Abend mit Musik\, Speis und Trank. \nWir freuen uns auf euch!
URL:https://xn--ltzel-kva.info/veranstaltung/tanz-in-den-mai/
LOCATION:Feuerwehr-Gerätehaus\, Kronprinzenstraße 1\, Lützel\, 57271\, Deutschland
CATEGORIES:Feuerwehr,Förderverein
ATTACH;FMTTYPE=image/jpeg:https://xn--ltzel-kva.info/wp-content/uploads/2023/09/Website.jpg
END:VEVENT
END:VCALENDAR