BEGIN:VCALENDAR
VERSION:2.0
PRODID:-//Der Kalender für Lützel - ECPv6.15.20//NONSGML v1.0//EN
CALSCALE:GREGORIAN
METHOD:PUBLISH
X-ORIGINAL-URL:https://xn--ltzel-kva.info
X-WR-CALDESC:Veranstaltungen für Der Kalender für Lützel
REFRESH-INTERVAL;VALUE=DURATION:PT1H
X-Robots-Tag:noindex
X-PUBLISHED-TTL:PT1H
BEGIN:VTIMEZONE
TZID:Europe/Berlin
BEGIN:DAYLIGHT
TZOFFSETFROM:+0100
TZOFFSETTO:+0200
TZNAME:CEST
DTSTART:20230326T010000
END:DAYLIGHT
BEGIN:STANDARD
TZOFFSETFROM:+0200
TZOFFSETTO:+0100
TZNAME:CET
DTSTART:20231029T010000
END:STANDARD
BEGIN:DAYLIGHT
TZOFFSETFROM:+0100
TZOFFSETTO:+0200
TZNAME:CEST
DTSTART:20240331T010000
END:DAYLIGHT
BEGIN:STANDARD
TZOFFSETFROM:+0200
TZOFFSETTO:+0100
TZNAME:CET
DTSTART:20241027T010000
END:STANDARD
BEGIN:DAYLIGHT
TZOFFSETFROM:+0100
TZOFFSETTO:+0200
TZNAME:CEST
DTSTART:20250330T010000
END:DAYLIGHT
BEGIN:STANDARD
TZOFFSETFROM:+0200
TZOFFSETTO:+0100
TZNAME:CET
DTSTART:20251026T010000
END:STANDARD
END:VTIMEZONE
BEGIN:VEVENT
DTSTART;TZID=Europe/Berlin:20240703T190000
DTEND;TZID=Europe/Berlin:20240703T220000
DTSTAMP:20260423T075730
CREATED:20240318T065049Z
LAST-MODIFIED:20240318T065221Z
UID:404-1720033200-1720044000@xn--ltzel-kva.info
SUMMARY:Grillen am Dorfbrunnen (jeden 1. Mittwoch im Monat ->ab Mai)
DESCRIPTION:Der Heimatverein Lützel lädt von Mai bis September wieder ab 19.00 Uhr zum Grillen am Dorfbrunnen ein.
URL:https://xn--ltzel-kva.info/veranstaltung/grillen-am-dorfbrunnen-jeden-1-mittwoch-im-monat-ab-mai-2/
LOCATION:Dorfbrunnen\, Gillerbergstraße
END:VEVENT
BEGIN:VEVENT
DTSTART;TZID=Europe/Berlin:20240706T133000
DTEND;TZID=Europe/Berlin:20240706T233000
DTSTAMP:20260423T075730
CREATED:20240206T165040Z
LAST-MODIFIED:20240622T080446Z
UID:377-1720272600-1720308600@xn--ltzel-kva.info
SUMMARY:Sommerfest des Skiverein Lützel
DESCRIPTION:Das Sommerfest 2024 des Skivereins Lützel findet am 06.07. ab 13.30 Uhr am Badeweiher statt. \nWeitere Informationen folgen:
URL:https://xn--ltzel-kva.info/veranstaltung/sommerfest-des-skiverein-luetzel/
LOCATION:Badeweiher\, Lützel\, Deutschland
CATEGORIES:SV Lützel
END:VEVENT
END:VCALENDAR