BEGIN:VCALENDAR
VERSION:2.0
PRODID:-//Der Kalender für Lützel - ECPv6.15.20//NONSGML v1.0//EN
CALSCALE:GREGORIAN
METHOD:PUBLISH
X-WR-CALNAME:Der Kalender für Lützel
X-ORIGINAL-URL:https://xn--ltzel-kva.info
X-WR-CALDESC:Veranstaltungen für Der Kalender für Lützel
REFRESH-INTERVAL;VALUE=DURATION:PT1H
X-Robots-Tag:noindex
X-PUBLISHED-TTL:PT1H
BEGIN:VTIMEZONE
TZID:Europe/Berlin
BEGIN:DAYLIGHT
TZOFFSETFROM:+0100
TZOFFSETTO:+0200
TZNAME:CEST
DTSTART:20230326T010000
END:DAYLIGHT
BEGIN:STANDARD
TZOFFSETFROM:+0200
TZOFFSETTO:+0100
TZNAME:CET
DTSTART:20231029T010000
END:STANDARD
BEGIN:DAYLIGHT
TZOFFSETFROM:+0100
TZOFFSETTO:+0200
TZNAME:CEST
DTSTART:20240331T010000
END:DAYLIGHT
BEGIN:STANDARD
TZOFFSETFROM:+0200
TZOFFSETTO:+0100
TZNAME:CET
DTSTART:20241027T010000
END:STANDARD
BEGIN:DAYLIGHT
TZOFFSETFROM:+0100
TZOFFSETTO:+0200
TZNAME:CEST
DTSTART:20250330T010000
END:DAYLIGHT
BEGIN:STANDARD
TZOFFSETFROM:+0200
TZOFFSETTO:+0100
TZNAME:CET
DTSTART:20251026T010000
END:STANDARD
END:VTIMEZONE
BEGIN:VEVENT
DTSTART;TZID=Europe/Berlin:20240807T190000
DTEND;TZID=Europe/Berlin:20240807T220000
DTSTAMP:20260423T062453
CREATED:20240318T065359Z
LAST-MODIFIED:20240318T065605Z
UID:408-1723057200-1723068000@xn--ltzel-kva.info
SUMMARY:Grillen am Dorfbrunnen (jeden 1. Mittwoch im Monat -> ab Mai)
DESCRIPTION:Der Heimatverein Lützel lädt von Mai bis September wieder ab 19.00 Uhr zum Grillen am Dorfbrunnen ein.
URL:https://xn--ltzel-kva.info/veranstaltung/grillen-am-dorfbrunnen-jeden-1-mittwoch-im-monat-ab-mai-3/
LOCATION:Dorfbrunnen\, Gillerbergstraße
END:VEVENT
BEGIN:VEVENT
DTSTART;TZID=Europe/Berlin:20240810T120000
DTEND;TZID=Europe/Berlin:20240810T180000
DTSTAMP:20260423T062453
CREATED:20240601T180857Z
LAST-MODIFIED:20240802T055447Z
UID:355-1723291200-1723312800@xn--ltzel-kva.info
SUMMARY:Tag der offenen Tür - Feuerwehr Lützel
DESCRIPTION:Zum Tag der offenen Tür der Feuerwehr Hilchenbach – Einheit Lützel laden wir euch ganz herzlich zu uns an das Gerätehaus Lützel ein. \n\nVorführungen mit dem Firetrainer – was passiert mit einer Deo-Dose\, die im Feuer steht?\nVorführung unserer Fahrzeuge und unserer Ausrüstung\nGroße Hüpfburg\nLöschhaus\n\nFür kalte und warme Verpflegung ist gesorgt. Wir freuen uns auf euren Besuch! \nHier findet ihr unseren Flyer als Download.
URL:https://xn--ltzel-kva.info/veranstaltung/tag-der-feuerwehr-2024/
LOCATION:Feuerwehr-Gerätehaus\, Kronprinzenstraße 1\, Lützel\, 57271\, Deutschland
CATEGORIES:Feuerwehr,Förderverein
END:VEVENT
BEGIN:VEVENT
DTSTART;VALUE=DATE:20240811
DTEND;VALUE=DATE:20240812
DTSTAMP:20260423T062453
CREATED:20240404T162909Z
LAST-MODIFIED:20240404T162909Z
UID:416-1723334400-1723420799@xn--ltzel-kva.info
SUMMARY:Kanu-Tour des SV Lützel
DESCRIPTION:Der Skiverein Lützel lädt zu seiner traditionellen Kanu-Tour am 11.08.2024 ein. \nAnsprechpartner ist Heike Asbeck oder Benjamin Wörster. \nKontakt persönlich oder über die Homepage des Skiverein Lützel. \n 
URL:https://xn--ltzel-kva.info/veranstaltung/kanu-tour-des-sv-luetzel/
END:VEVENT
BEGIN:VEVENT
DTSTART;TZID=Europe/Berlin:20240825T110000
DTEND;TZID=Europe/Berlin:20240825T170000
DTSTAMP:20260423T062453
CREATED:20231203T094607Z
LAST-MODIFIED:20231203T094607Z
UID:359-1724583600-1724605200@xn--ltzel-kva.info
SUMMARY:Rothaar Games
DESCRIPTION:Kontakt: Jana Becker / Laura Schneider
URL:https://xn--ltzel-kva.info/veranstaltung/rothaar-games/
LOCATION:Sportplatz Giller\, Hof Ginsberg\, 57271 Hilchenbach\, NRW\, 57271\, Deutschland
END:VEVENT
BEGIN:VEVENT
DTSTART;TZID=Europe/Berlin:20240831T140000
DTEND;TZID=Europe/Berlin:20240831T170000
DTSTAMP:20260423T062453
CREATED:20240814T083145Z
LAST-MODIFIED:20240814T083145Z
UID:472-1725112800-1725123600@xn--ltzel-kva.info
SUMMARY:35 Jahre Jugendfeuerwehr Lützel
DESCRIPTION:Am 31.08.2024 feiert die Jugendfeuerwehr Lützel ihr 35-jähriges Bestehen. \nDas wollen wir feiern mit \n\nab 14 Uhr mit einer Übung der Jugendfeuerwehr am Gemeindehaus Lützel\nab 15 Uhr mit Kaffee und Kuchen am Gerätehaus Lützel\n\nDie Jugendfeuerwehr Lützel freut sich auf euch!
URL:https://xn--ltzel-kva.info/veranstaltung/35-jahre-jugendfeuerwehr-luetzel/
LOCATION:Gemeindehaus\, In den Eichen 2a\, Lützel\, 57271
CATEGORIES:Feuerwehr
END:VEVENT
END:VCALENDAR