BEGIN:VCALENDAR
VERSION:2.0
PRODID:-//Der Kalender für Lützel - ECPv6.15.20//NONSGML v1.0//EN
CALSCALE:GREGORIAN
METHOD:PUBLISH
X-WR-CALNAME:Der Kalender für Lützel
X-ORIGINAL-URL:https://xn--ltzel-kva.info
X-WR-CALDESC:Veranstaltungen für Der Kalender für Lützel
REFRESH-INTERVAL;VALUE=DURATION:PT1H
X-Robots-Tag:noindex
X-PUBLISHED-TTL:PT1H
BEGIN:VTIMEZONE
TZID:Europe/Berlin
BEGIN:DAYLIGHT
TZOFFSETFROM:+0100
TZOFFSETTO:+0200
TZNAME:CEST
DTSTART:20230326T010000
END:DAYLIGHT
BEGIN:STANDARD
TZOFFSETFROM:+0200
TZOFFSETTO:+0100
TZNAME:CET
DTSTART:20231029T010000
END:STANDARD
BEGIN:DAYLIGHT
TZOFFSETFROM:+0100
TZOFFSETTO:+0200
TZNAME:CEST
DTSTART:20240331T010000
END:DAYLIGHT
BEGIN:STANDARD
TZOFFSETFROM:+0200
TZOFFSETTO:+0100
TZNAME:CET
DTSTART:20241027T010000
END:STANDARD
BEGIN:DAYLIGHT
TZOFFSETFROM:+0100
TZOFFSETTO:+0200
TZNAME:CEST
DTSTART:20250330T010000
END:DAYLIGHT
BEGIN:STANDARD
TZOFFSETFROM:+0200
TZOFFSETTO:+0100
TZNAME:CET
DTSTART:20251026T010000
END:STANDARD
END:VTIMEZONE
BEGIN:VEVENT
DTSTART;VALUE=DATE:20241201
DTEND;VALUE=DATE:20241202
DTSTAMP:20260423T002631
CREATED:20241011T090840Z
LAST-MODIFIED:20241011T090840Z
UID:483-1733011200-1733097599@xn--ltzel-kva.info
SUMMARY:Kindergottesdienst-Weihnachtsfeier
DESCRIPTION:Herzliche Einladung!!
URL:https://xn--ltzel-kva.info/veranstaltung/kindergottesdienst-weihnachtsfeier/
END:VEVENT
BEGIN:VEVENT
DTSTART;TZID=Europe/Berlin:20241206T170000
DTEND;TZID=Europe/Berlin:20241206T230000
DTSTAMP:20260423T002631
CREATED:20240209T190017Z
LAST-MODIFIED:20241112T184502Z
UID:389-1733504400-1733526000@xn--ltzel-kva.info
SUMMARY:Einsatz am Grill
DESCRIPTION:Winterblues? Keine Chance! Wir bringen die Kohle zum Glühen und die Flammen zum lodern – und laden euch herzlich auf ein paar schöne Stunden zum „Einsatz am Grill“ an die Alte Schule ein. Bei leckerem Essen und kühlen oder warmen Getränken verbringen wir eine gute Zeit zusammen.
URL:https://xn--ltzel-kva.info/veranstaltung/einsatz-am-grill-2024/
LOCATION:Alte Schule\, Kronprinzenstraße 14\, Lützel\, 57271
CATEGORIES:Feuerwehr,Förderverein
END:VEVENT
BEGIN:VEVENT
DTSTART;TZID=Europe/Berlin:20241224T160000
DTEND;TZID=Europe/Berlin:20241224T170000
DTSTAMP:20260423T002631
CREATED:20241011T090943Z
LAST-MODIFIED:20241011T090943Z
UID:485-1735056000-1735059600@xn--ltzel-kva.info
SUMMARY:Heilig-Abend-Gottesdienst
DESCRIPTION:Herzliche Einladung!!
URL:https://xn--ltzel-kva.info/veranstaltung/heilig-abend-gottesdienst/
END:VEVENT
BEGIN:VEVENT
DTSTART;TZID=Europe/Berlin:20241231T170000
DTEND;TZID=Europe/Berlin:20241231T183000
DTSTAMP:20260423T002631
CREATED:20241011T091126Z
LAST-MODIFIED:20241011T091126Z
UID:487-1735664400-1735669800@xn--ltzel-kva.info
SUMMARY:Jahres-Abschluß-Gottesdienst
DESCRIPTION:Herzliche Einladung!!
URL:https://xn--ltzel-kva.info/veranstaltung/jahres-abschluss-gottesdienst/
END:VEVENT
END:VCALENDAR