BEGIN:VCALENDAR
VERSION:2.0
PRODID:-//Der Kalender für Lützel - ECPv6.15.20//NONSGML v1.0//EN
CALSCALE:GREGORIAN
METHOD:PUBLISH
X-ORIGINAL-URL:https://xn--ltzel-kva.info
X-WR-CALDESC:Veranstaltungen für Der Kalender für Lützel
REFRESH-INTERVAL;VALUE=DURATION:PT1H
X-Robots-Tag:noindex
X-PUBLISHED-TTL:PT1H
BEGIN:VTIMEZONE
TZID:Europe/Berlin
BEGIN:DAYLIGHT
TZOFFSETFROM:+0100
TZOFFSETTO:+0200
TZNAME:CEST
DTSTART:20240331T010000
END:DAYLIGHT
BEGIN:STANDARD
TZOFFSETFROM:+0200
TZOFFSETTO:+0100
TZNAME:CET
DTSTART:20241027T010000
END:STANDARD
BEGIN:DAYLIGHT
TZOFFSETFROM:+0100
TZOFFSETTO:+0200
TZNAME:CEST
DTSTART:20250330T010000
END:DAYLIGHT
BEGIN:STANDARD
TZOFFSETFROM:+0200
TZOFFSETTO:+0100
TZNAME:CET
DTSTART:20251026T010000
END:STANDARD
BEGIN:DAYLIGHT
TZOFFSETFROM:+0100
TZOFFSETTO:+0200
TZNAME:CEST
DTSTART:20260329T010000
END:DAYLIGHT
BEGIN:STANDARD
TZOFFSETFROM:+0200
TZOFFSETTO:+0100
TZNAME:CET
DTSTART:20261025T010000
END:STANDARD
END:VTIMEZONE
BEGIN:VEVENT
DTSTART;TZID=Europe/Berlin:20250402T190000
DTEND;TZID=Europe/Berlin:20250402T190000
DTSTAMP:20260422T190112
CREATED:20250205T055305Z
LAST-MODIFIED:20250205T060818Z
UID:514-1743620400-1743620400@xn--ltzel-kva.info
SUMMARY:Dorf - Grillen > Winteredition
DESCRIPTION:Der Heimatverein Lützel lädt ab 19.00 Uhr zum Grillen in die Alte Schule Schule Lützel ein.
URL:https://xn--ltzel-kva.info/veranstaltung/dorf-grillen-winteredition-3/
LOCATION:Alte Schule\, Kronprinzenstraße 14\, Lützel\, 57271
END:VEVENT
BEGIN:VEVENT
DTSTART;TZID=Europe/Berlin:20250406T103000
DTEND;TZID=Europe/Berlin:20250406T140000
DTSTAMP:20260422T190112
CREATED:20250402T193121Z
LAST-MODIFIED:20250402T193121Z
UID:531-1743935400-1743948000@xn--ltzel-kva.info
SUMMARY:Jahresfest der ev. Gemeinschaft Lützel
DESCRIPTION:Jahresfest – Gottesdienst mit Michael Klitzke / Marburger Medien\nanschließend gemeinsames Mittagessen\nBeiträge zum Buffet willkommen (Salate\, Beilagen\, Dessert\, evt. Kuchen)
URL:https://xn--ltzel-kva.info/veranstaltung/jahresfest-der-ev-gemeinschaft-luetzel/
LOCATION:Gemeindehaus\, In den Eichen 2a\, Lützel\, 57271
END:VEVENT
BEGIN:VEVENT
DTSTART;TZID=Europe/Berlin:20250408T190000
DTEND;TZID=Europe/Berlin:20250408T210000
DTSTAMP:20260422T190112
CREATED:20250306T115453Z
LAST-MODIFIED:20250306T115453Z
UID:527-1744138800-1744146000@xn--ltzel-kva.info
SUMMARY:Sozialauktion des Jugendkreises der Ev. Gemeinschaft Lützel
DESCRIPTION:Der Jugendkreis lädt herzlich ein zur Versteigerungsaktion / Sozialauktion. Im Gemeindehaus\, In den Eichen
URL:https://xn--ltzel-kva.info/veranstaltung/sozialauktion-des-jugendkreises-der-ev-gemeinschaft-luetzel/
END:VEVENT
BEGIN:VEVENT
DTSTART;TZID=Europe/Berlin:20250412T090000
DTEND;TZID=Europe/Berlin:20250412T140000
DTSTAMP:20260422T190112
CREATED:20250303T210620Z
LAST-MODIFIED:20250303T210620Z
UID:522-1744448400-1744466400@xn--ltzel-kva.info
SUMMARY:Dorfputz 2025
DESCRIPTION:mit gemeinsamem Mittagessen
URL:https://xn--ltzel-kva.info/veranstaltung/dorfputz-2025/
LOCATION:Alte Schule\, Kronprinzenstraße 14\, Lützel\, 57271
END:VEVENT
BEGIN:VEVENT
DTSTART;TZID=Europe/Berlin:20250424T190000
DTEND;TZID=Europe/Berlin:20250424T190000
DTSTAMP:20260422T190112
CREATED:20250205T055652Z
LAST-MODIFIED:20250205T060333Z
UID:516-1745521200-1745521200@xn--ltzel-kva.info
SUMMARY:Jahreshauptversammlung der Jagdgenossenschaft Lützel
DESCRIPTION:Die Jagdgenossenschaft Lützel lädt am Donnerstag dem 24.04.2025\, um 19.00 Uhr zur jährlichen Jagdversammlung ein.
URL:https://xn--ltzel-kva.info/veranstaltung/jahreshauptversammlung-der-jagdgenossenschaft-luetzel/
LOCATION:Alte Schule\, Kronprinzenstraße 14\, Lützel\, 57271
END:VEVENT
BEGIN:VEVENT
DTSTART;TZID=Europe/Berlin:20250428T180000
DTEND;TZID=Europe/Berlin:20250428T200000
DTSTAMP:20260422T190112
CREATED:20250412T055615Z
LAST-MODIFIED:20250412T055615Z
UID:534-1745863200-1745870400@xn--ltzel-kva.info
SUMMARY:Flurbereinigungsverfahren B62 - Vorstandswahl
DESCRIPTION:Ladung zur Vorstandswahl\nSiegen\, den 03.04.2025\nDas Flurbereinigungsverfahren Hilchenbach B 62 ist mit Beschluss vom 10.12.2024\neingeleitet worden. Mit dem Beschluss ist die Teilnehmergemeinschaft des Flurberei\nnigungsverfahrens Hilchenbach B 62 entstanden.\nIn dem Flurbereinigungsverfahren Hilchenbach B 62 soll am\nMontag\, dem 28. April 2025\, um 18:00 Uhr\,\nDorfgemeinschaftshaus – Alte Schule Lützel\,\nKronprinzenstraße 14\,\n57271 Hilchenbach-Lützel\,\ngemäß § 21 Abs. 1 bis 5 des Flurbereinigungsgesetzes in der zurzeit gültigen Fas\nsung der Vorstand der Teilnehmergemeinschaft gewählt werden.\nZu diesem Termin werden die Eigentümer der zum Flurbereinigungsgebiet gehören\nden Grundstücke sowie die den Eigentümern gleichstehenden Erbbauberechtigten\nals Teilnehmer des vereinfachten Flurbereinigungsverfahrens Hilchenbach B 62 gela\nden.
URL:https://xn--ltzel-kva.info/veranstaltung/flurbereinigungsverfahren-b62-vorstandswahl/
LOCATION:Alte Schule\, Kronprinzenstraße 14\, Lützel\, 57271
END:VEVENT
BEGIN:VEVENT
DTSTART;TZID=Europe/Berlin:20250430T170000
DTEND;TZID=Europe/Berlin:20250501T010000
DTSTAMP:20260422T190112
CREATED:20250112T133448Z
LAST-MODIFIED:20250112T133448Z
UID:507-1746032400-1746061200@xn--ltzel-kva.info
SUMMARY:Tanz in den Mai
DESCRIPTION:Infos folgen
URL:https://xn--ltzel-kva.info/veranstaltung/tanz-in-den-mai-2025/
LOCATION:Feuerwehr-Gerätehaus\, Kronprinzenstraße 1\, Lützel\, 57271\, Deutschland
CATEGORIES:Feuerwehr,Förderverein
END:VEVENT
END:VCALENDAR