BEGIN:VCALENDAR
VERSION:2.0
PRODID:-//Der Kalender für Lützel - ECPv6.15.20//NONSGML v1.0//EN
CALSCALE:GREGORIAN
METHOD:PUBLISH
X-ORIGINAL-URL:https://xn--ltzel-kva.info
X-WR-CALDESC:Veranstaltungen für Der Kalender für Lützel
REFRESH-INTERVAL;VALUE=DURATION:PT1H
X-Robots-Tag:noindex
X-PUBLISHED-TTL:PT1H
BEGIN:VTIMEZONE
TZID:Europe/Berlin
BEGIN:DAYLIGHT
TZOFFSETFROM:+0100
TZOFFSETTO:+0200
TZNAME:CEST
DTSTART:20240331T010000
END:DAYLIGHT
BEGIN:STANDARD
TZOFFSETFROM:+0200
TZOFFSETTO:+0100
TZNAME:CET
DTSTART:20241027T010000
END:STANDARD
BEGIN:DAYLIGHT
TZOFFSETFROM:+0100
TZOFFSETTO:+0200
TZNAME:CEST
DTSTART:20250330T010000
END:DAYLIGHT
BEGIN:STANDARD
TZOFFSETFROM:+0200
TZOFFSETTO:+0100
TZNAME:CET
DTSTART:20251026T010000
END:STANDARD
BEGIN:DAYLIGHT
TZOFFSETFROM:+0100
TZOFFSETTO:+0200
TZNAME:CEST
DTSTART:20260329T010000
END:DAYLIGHT
BEGIN:STANDARD
TZOFFSETFROM:+0200
TZOFFSETTO:+0100
TZNAME:CET
DTSTART:20261025T010000
END:STANDARD
END:VTIMEZONE
BEGIN:VEVENT
DTSTART;TZID=Europe/Berlin:20250806T190000
DTEND;TZID=Europe/Berlin:20250806T210000
DTSTAMP:20260420T012546
CREATED:20250630T085415Z
LAST-MODIFIED:20250630T085415Z
UID:539-1754506800-1754514000@xn--ltzel-kva.info
SUMMARY:Grillen am Dorfbrunnen
DESCRIPTION:Der Heimatverein lädt ab 19.00 Uhr zum Grillen am Dorfbrunnen ein.
URL:https://xn--ltzel-kva.info/veranstaltung/grillen-am-dorfbrunnen-7/
LOCATION:Dorfbrunnen\, Gillerbergstraße
END:VEVENT
BEGIN:VEVENT
DTSTART;VALUE=DATE:20250824
DTEND;VALUE=DATE:20250825
DTSTAMP:20260420T012546
CREATED:20250723T184513Z
LAST-MODIFIED:20250723T184513Z
UID:546-1755993600-1756079999@xn--ltzel-kva.info
SUMMARY:Kanutour des SV Lützel
DESCRIPTION:der SV Lützel lädt am 24.08.2025 wieder zu seiner traditionellen Kanutour ein. \nInfos bei Heike Asbeck oder Benjamin Wörster \nKontakt persönlich oder über die Homepage des Skiverein Lützel.
URL:https://xn--ltzel-kva.info/veranstaltung/kanutour-des-sv-luetzel/
END:VEVENT
END:VCALENDAR