BEGIN:VCALENDAR
VERSION:2.0
PRODID:-//Der Kalender für Lützel - ECPv6.15.20//NONSGML v1.0//EN
CALSCALE:GREGORIAN
METHOD:PUBLISH
X-WR-CALNAME:Der Kalender für Lützel
X-ORIGINAL-URL:https://xn--ltzel-kva.info
X-WR-CALDESC:Veranstaltungen für Der Kalender für Lützel
REFRESH-INTERVAL;VALUE=DURATION:PT1H
X-Robots-Tag:noindex
X-PUBLISHED-TTL:PT1H
BEGIN:VTIMEZONE
TZID:Europe/Berlin
BEGIN:DAYLIGHT
TZOFFSETFROM:+0100
TZOFFSETTO:+0200
TZNAME:CEST
DTSTART:20240331T010000
END:DAYLIGHT
BEGIN:STANDARD
TZOFFSETFROM:+0200
TZOFFSETTO:+0100
TZNAME:CET
DTSTART:20241027T010000
END:STANDARD
BEGIN:DAYLIGHT
TZOFFSETFROM:+0100
TZOFFSETTO:+0200
TZNAME:CEST
DTSTART:20250330T010000
END:DAYLIGHT
BEGIN:STANDARD
TZOFFSETFROM:+0200
TZOFFSETTO:+0100
TZNAME:CET
DTSTART:20251026T010000
END:STANDARD
BEGIN:DAYLIGHT
TZOFFSETFROM:+0100
TZOFFSETTO:+0200
TZNAME:CEST
DTSTART:20260329T010000
END:DAYLIGHT
BEGIN:STANDARD
TZOFFSETFROM:+0200
TZOFFSETTO:+0100
TZNAME:CET
DTSTART:20261025T010000
END:STANDARD
END:VTIMEZONE
BEGIN:VEVENT
DTSTART;TZID=Europe/Berlin:20251003T120000
DTEND;TZID=Europe/Berlin:20251003T170000
DTSTAMP:20260419T220139
CREATED:20250911T110153Z
LAST-MODIFIED:20250911T110530Z
UID:554-1759492800-1759510800@xn--ltzel-kva.info
SUMMARY:Legotage der Ev. Gemeinschaft Lützel
DESCRIPTION:Vom 03. – 04. Oktober 2025 im Gemeindehaus\, In den Eichen 2a
URL:https://xn--ltzel-kva.info/veranstaltung/gemeindefreizeit-der-ev-gemeinschaft-luetzel/
END:VEVENT
BEGIN:VEVENT
DTSTART;TZID=Europe/Berlin:20251003T120000
DTEND;TZID=Europe/Berlin:20251003T170000
DTSTAMP:20260419T220139
CREATED:20250911T110700Z
LAST-MODIFIED:20250911T110700Z
UID:558-1759492800-1759510800@xn--ltzel-kva.info
SUMMARY:Legotage der Ev. Gemeinschaft Lützel
DESCRIPTION:vom 3.-4. Oktober 2025 im Gemeindehaus\, In den Eichen 2a \nHerzliche Einladung an alle Kinder!
URL:https://xn--ltzel-kva.info/veranstaltung/legotage-der-ev-gemeinschaft-luetzel/
END:VEVENT
END:VCALENDAR