BEGIN:VCALENDAR
VERSION:2.0
PRODID:-//Der Kalender für Lützel - ECPv6.15.20//NONSGML v1.0//EN
CALSCALE:GREGORIAN
METHOD:PUBLISH
X-ORIGINAL-URL:https://xn--ltzel-kva.info
X-WR-CALDESC:Veranstaltungen für Der Kalender für Lützel
REFRESH-INTERVAL;VALUE=DURATION:PT1H
X-Robots-Tag:noindex
X-PUBLISHED-TTL:PT1H
BEGIN:VTIMEZONE
TZID:Europe/Berlin
BEGIN:DAYLIGHT
TZOFFSETFROM:+0100
TZOFFSETTO:+0200
TZNAME:CEST
DTSTART:20240331T010000
END:DAYLIGHT
BEGIN:STANDARD
TZOFFSETFROM:+0200
TZOFFSETTO:+0100
TZNAME:CET
DTSTART:20241027T010000
END:STANDARD
BEGIN:DAYLIGHT
TZOFFSETFROM:+0100
TZOFFSETTO:+0200
TZNAME:CEST
DTSTART:20250330T010000
END:DAYLIGHT
BEGIN:STANDARD
TZOFFSETFROM:+0200
TZOFFSETTO:+0100
TZNAME:CET
DTSTART:20251026T010000
END:STANDARD
BEGIN:DAYLIGHT
TZOFFSETFROM:+0100
TZOFFSETTO:+0200
TZNAME:CEST
DTSTART:20260329T010000
END:DAYLIGHT
BEGIN:STANDARD
TZOFFSETFROM:+0200
TZOFFSETTO:+0100
TZNAME:CET
DTSTART:20261025T010000
END:STANDARD
END:VTIMEZONE
BEGIN:VEVENT
DTSTART;TZID=Europe/Berlin:20251110T193000
DTEND;TZID=Europe/Berlin:20251110T210000
DTSTAMP:20260419T202128
CREATED:20251012T133142Z
LAST-MODIFIED:20251109T114459Z
UID:576-1762803000-1762808400@xn--ltzel-kva.info
SUMMARY:Jahreshauptversammlung Heimatverein Lützel
DESCRIPTION:der Heimatverein Lützel lädt am 10.11.2025\, um 19.30 Uhr zur Jahreshauptversammlung ein. \n 
URL:https://xn--ltzel-kva.info/veranstaltung/jahreshauptversammlung-heimatverein-luetzel/
LOCATION:Alte Schule\, Kronprinzenstraße 14\, Lützel\, 57271
END:VEVENT
BEGIN:VEVENT
DTSTART;TZID=Europe/Berlin:20251115T170000
DTEND;TZID=Europe/Berlin:20251115T210000
DTSTAMP:20260419T202128
CREATED:20241008T143107Z
LAST-MODIFIED:20250915T105854Z
UID:479-1763226000-1763240400@xn--ltzel-kva.info
SUMMARY:Laternenumzug des SV Lützel
DESCRIPTION:der SV Lützel lädt am 15.11.2025 um 17.00 Uhr zu seinem traditionellen Laternenumzug ein. \nTreffpunkt ist ist an der Alten Schule\, unterer Eingang.
URL:https://xn--ltzel-kva.info/veranstaltung/laternenumzug-des-sv-luetzel-2/
LOCATION:Alte Schule\, Kronprinzenstraße 14\, Lützel\, 57271
END:VEVENT
BEGIN:VEVENT
DTSTART;TZID=Europe/Berlin:20251116T140000
DTEND;TZID=Europe/Berlin:20251116T170000
DTSTAMP:20260419T202128
CREATED:20250911T110854Z
LAST-MODIFIED:20250911T110854Z
UID:560-1763301600-1763312400@xn--ltzel-kva.info
SUMMARY:Büchertisch und Waffelverkauf der Ev. Gemeinschaft Lützel
DESCRIPTION:Von 14 Uhr bis ca. 17 Uhr im Gemeindehaus\, In den Eichen 2a \nHerzliche Einladung !!
URL:https://xn--ltzel-kva.info/veranstaltung/buechertisch-und-waffelverkauf-der-ev-gemeinschaft-luetzel/
END:VEVENT
BEGIN:VEVENT
DTSTART;TZID=Europe/Berlin:20251129T170000
DTEND;TZID=Europe/Berlin:20251129T183000
DTSTAMP:20260419T202128
CREATED:20250911T111033Z
LAST-MODIFIED:20250911T111033Z
UID:562-1764435600-1764441000@xn--ltzel-kva.info
SUMMARY:Adventssingen der Ev. Gemeinschaft Lützel
DESCRIPTION:Im Gemeindehaus\, In den Eichen 2a \nHerzliche Einladung !!
URL:https://xn--ltzel-kva.info/veranstaltung/adventssingen-der-ev-gemeinschaft-luetzel/
END:VEVENT
BEGIN:VEVENT
DTSTART;TZID=Europe/Berlin:20251130T170000
DTEND;TZID=Europe/Berlin:20251130T183000
DTSTAMP:20260419T202128
CREATED:20241113T205018Z
LAST-MODIFIED:20251028T210031Z
UID:501-1764522000-1764527400@xn--ltzel-kva.info
SUMMARY:Weihnachtsbaum aufstellen beim Ehrenmal
DESCRIPTION:…mit Punsch und Glühwein beim Ehrenmal Am Pfaffenhain
URL:https://xn--ltzel-kva.info/veranstaltung/weihnachtsbaum-aufstellen-beim-ehrenmal/
LOCATION:Ehrenmal Am Pfaffenhain\, Am Pfaffenhain
END:VEVENT
END:VCALENDAR